BEGIN:VCALENDAR
VERSION:2.0
PRODID:icalendar-ruby
CALSCALE:GREGORIAN
METHOD:PUBLISH
BEGIN:VEVENT
DTSTAMP:20260421T015609Z
UID:242-1463069@unityofnewwestminster.org
DTSTART:20260421T190000Z
DTEND:20260422T050000Z
CLASS:PUBLIC
CREATED:20260321T100042
DESCRIPTION:
LAST-MODIFIED:20260321T100042
LOCATION:
SUMMARY:Private Rental
URL;VALUE=URI:https://unityofnewwestminster.org/events/private-rental--242/
 2026-04-21
END:VEVENT
END:VCALENDAR
